BEGIN:VCALENDAR
VERSION:2.0
PRODID:-//ABDNHA - ECPv6.15.20//NONSGML v1.0//EN
CALSCALE:GREGORIAN
METHOD:PUBLISH
X-WR-CALNAME:ABDNHA
X-ORIGINAL-URL:https://abdnha.org
X-WR-CALDESC:Events for ABDNHA
REFRESH-INTERVAL;VALUE=DURATION:PT1H
X-Robots-Tag:noindex
X-PUBLISHED-TTL:PT1H
BEGIN:VTIMEZONE
TZID:America/Los_Angeles
BEGIN:DAYLIGHT
TZOFFSETFROM:-0800
TZOFFSETTO:-0700
TZNAME:PDT
DTSTART:20250309T100000
END:DAYLIGHT
BEGIN:STANDARD
TZOFFSETFROM:-0700
TZOFFSETTO:-0800
TZNAME:PST
DTSTART:20251102T090000
END:STANDARD
BEGIN:DAYLIGHT
TZOFFSETFROM:-0800
TZOFFSETTO:-0700
TZNAME:PDT
DTSTART:20260308T100000
END:DAYLIGHT
BEGIN:STANDARD
TZOFFSETFROM:-0700
TZOFFSETTO:-0800
TZNAME:PST
DTSTART:20261101T090000
END:STANDARD
BEGIN:DAYLIGHT
TZOFFSETFROM:-0800
TZOFFSETTO:-0700
TZNAME:PDT
DTSTART:20270314T100000
END:DAYLIGHT
BEGIN:STANDARD
TZOFFSETFROM:-0700
TZOFFSETTO:-0800
TZNAME:PST
DTSTART:20271107T090000
END:STANDARD
END:VTIMEZONE
BEGIN:VEVENT
DTSTART;TZID=America/Los_Angeles:20260208T080000
DTEND;TZID=America/Los_Angeles:20260208T140000
DTSTAMP:20260424T024037
CREATED:20260207T172136Z
LAST-MODIFIED:20260207T172136Z
UID:10001008-1770537600-1770559200@abdnha.org
SUMMARY:Hike: Borrego Badlands\, The Trifecta (Moderate to Strenuous)
DESCRIPTION:Leaders: Sanjiv Nanda and Alan Parks \nJoin us on this moderate seven-mile loop hike as we experience badlands vistas from three iconic Borrego Badlands viewpoints: The Bench\, Font’s Point\, and Inspiration Point. As a bonus\, we will examine a prominence that Bill Sullivan dubbed Pointed Hill and contemplate routes to the top. The hike route is cross-country and through lightly trodden washes around Font’s Wash and Inspiration Wash. There are a couple of short scrambles. Bring water\, snacks\, and lunch. Meet at 8:00 am at the entrance to Inspiration Wash (S22 mile 28.4\, 9.2 miles east of Christmas Circle) from where we will carpool in 4WD/AWD vehicles a short distance to the start of the hike. Max: 22. No charge; call or stop by the Nature Center to reserve\, 760-767-3098.
URL:https://abdnha.org/activity/hike-borrego-badlands-the-trifecta-moderate-to-strenuous/
LOCATION:CA
CATEGORIES:Hike
END:VEVENT
BEGIN:VEVENT
DTSTART;TZID=America/Los_Angeles:20260208T083000
DTEND;TZID=America/Los_Angeles:20260208T113000
DTSTAMP:20260424T024037
CREATED:20260130T195324Z
LAST-MODIFIED:20260130T195324Z
UID:10000941-1770539400-1770550200@abdnha.org
SUMMARY:Hike: The Bench (Moderate) - FULL (waitlist)
DESCRIPTION:Leader: Kathy Bussey\, ABDNHA Volunteer \nSurround yourself with the natural beauty of the Santa Rosa Mountains\, Clark Dry Lake\, and the Borrego Badlands on this easy 2.5-mile round-trip hike. We will drive up Inspiration Wash\, then hike up an unnamed wash to the man-made memorial bench for a 360-degree view. It is an easy hike\, except for the final short ascent up a sandy wash to the bench. AWD or 4WD OK. Meet at ABDNHA to carpool. No charge; call or stop by the Nature Center to reserve.
URL:https://abdnha.org/activity/hike-the-bench-moderate-full-waitlist/
LOCATION:ABDNHA Parking Lot\, 652 Palm Canyon Drive\, Borrego Springs\, CA\, 92004\, United States
CATEGORIES:Hike
END:VEVENT
BEGIN:VEVENT
DTSTART;TZID=America/Los_Angeles:20260209T073000
DTEND;TZID=America/Los_Angeles:20260209T160000
DTSTAMP:20260424T024037
CREATED:20260207T234911Z
LAST-MODIFIED:20260207T234911Z
UID:10001009-1770622200-1770652800@abdnha.org
SUMMARY:Hike: Box Canyon to Feldman Mine (Strenuous) - CANCELLED
DESCRIPTION:Leader: Rachel Rench \nPlease meet at 7:30 A.M. at the ABDNHA parking lot to arrange carpools to our parking area in Mason Valley. We’ll follow the historic Box Canyon route used by the Mormon Battalion\, the Southern Overland Stage route\, Gold Rush explorers\, and finally part of the California Riding and Hiking Trail. And now\, you! Before we reach Blair Valley\, we’ll climb out of the canyon and up to the old Feldman Mine. After a lunch break\, we’ll return the way we came. This hike is 6.25 miles long\, with a 900 ft elevation gain\, and will be limited to 15 people. No charge\, but registration is required. Call to reserve at 760-767-3098.
URL:https://abdnha.org/activity/hike-box-canyon-to-feldman-mine-strenuous-cancelled/
LOCATION:ABDNHA Parking Lot\, 652 Palm Canyon Drive\, Borrego Springs\, CA\, 92004\, United States
CATEGORIES:Hike
END:VEVENT
BEGIN:VEVENT
DTSTART;TZID=America/Los_Angeles:20260210T093000
DTEND;TZID=America/Los_Angeles:20260210T120000
DTSTAMP:20260424T024037
CREATED:20260130T200219Z
LAST-MODIFIED:20260130T200219Z
UID:10000943-1770715800-1770724800@abdnha.org
SUMMARY:Plant Amble (Easy) - FULL (waitlist)
DESCRIPTION:Leader: Pam Blake\, ABDNHA Volunteer \nThis is a variation on Pam’s ambles\, focused on plants. We will enjoy a stroll through the desert\, discussing different plant adaptations to living in this challenging environment. Meet at the ABDNHA parking lot at 9:30 am\, and be back before noon after a relatively short\, easy walk. Call the Nature Center to reserve\, 760-767-3098. Activity repeats 2nd Tuesday of the month.
URL:https://abdnha.org/activity/plant-amble-easy-full-waitlist-2/
LOCATION:ABDNHA Parking Lot\, 652 Palm Canyon Drive\, Borrego Springs\, CA\, 92004\, United States
CATEGORIES:Hike
END:VEVENT
BEGIN:VEVENT
DTSTART;VALUE=DATE:20260211
DTEND;VALUE=DATE:20260212
DTSTAMP:20260424T024037
CREATED:20251003T175722Z
LAST-MODIFIED:20251006T205409Z
UID:10000688-1770768000-1770854399@abdnha.org
SUMMARY:Borrego Rock & Gem Club (BRAG) Field Trip
DESCRIPTION:Like rocks? Join BRAG and meet other rockhounds! \nThe BRAG club field trip is every 2nd Wed\, meeting in the ABDNHA parking lot. \nNote: Field trips may start at 8:00 am or 9:00 am\, depending on the destination. We usually try to get back to Borrego around 3:00 pm.
URL:https://abdnha.org/activity/borrego-rock-gem-club-brag-field-trip/2026-02-11/
LOCATION:CA
CATEGORIES:Club,Field Trip
END:VEVENT
BEGIN:VEVENT
DTSTART;TZID=America/Los_Angeles:20260211T090000
DTEND;TZID=America/Los_Angeles:20260211T140000
DTSTAMP:20260424T024037
CREATED:20251226T203718Z
LAST-MODIFIED:20251226T203718Z
UID:10000901-1770800400-1770818400@abdnha.org
SUMMARY:4WD Tour: Canyon Sin Nombre-Diablo Dropoff-Fish Creek (MEMBERS PRIORITY) - FULL (waitlist)
DESCRIPTION:Leader: Jim Torian\, ABDNHA Volunteer \nLevel 4 Required – 4WD High Clearance** \nWe’ll meet at 9:00 am at the south entrance to Canyon Sin Nombre\, off the S2\, 34 miles south of SR78 (Scissors Crossing)\, about 0.6 miles south of Sweeney Pass. We’ll brief and air down before starting our journey within ABDSP. We’ll travel 13 miles on Canyon Sin Nombre to Vallecito Creek Road\, then to Arroyo Seco del Diablo\, reaching the Diablo drop-off\, which has both easy and challenging descents. From there\, we’ll head north to Split Mountain Road\, where our trip ends. Expect rocky roads\, washboard\, soft sand\, and mild challenges. Lunch is BYO\, and a stop will be made. Check the weather and dress accordingly. Bring water and a full tank of gas. GMRS channel 15 is optional. 4WD is required; no AWD. This is a members-priority trip. Visit the Nature Center or call to reserve: 760-767-3098. \n** Level 4: 4WD High Clearance REQUIRED due to deep sand\, large rocks\, steep sections\, large obstacles\, or rough conditions
URL:https://abdnha.org/activity/4wd-tour-canyon-sin-nombre-diablo-dropoff-fish-creek-members-priority-full-waitlist/
LOCATION:CA
CATEGORIES:4WD
END:VEVENT
BEGIN:VEVENT
DTSTART;TZID=America/Los_Angeles:20260211T190000
DTEND;TZID=America/Los_Angeles:20260211T203000
DTSTAMP:20260424T024037
CREATED:20260208T202915Z
LAST-MODIFIED:20260209T003956Z
UID:10001010-1770836400-1770841800@abdnha.org
SUMMARY:Webinar: Geology of San Diego County’s Peninsular Ranges - POSTPONED
DESCRIPTION:This presentation is postponed to a later date.  The new date will be posted here as soon as possible \nSpeaker: Geologist Don Barrie\nPlease join Mesa College geology professor and ABDNHA board member\, Don Barrie\, for his repeat lecture on San Diego County’s Peninsular Ranges\, with emphasis on the Laguna Mountains west of Borrego Springs. Don’s lecture will focus on how plate tectonic processes have created the complex collage of igneous and metamorphic rocks exposed both regionally\, throughout southeastern California\, and locally\, in the Lagunas. GP $12\, M $10\, V $8 (per connection).
URL:https://abdnha.org/activity/webinar-geology-of-san-diego-countys-peninsular-ranges/
LOCATION:Zoom
CATEGORIES:Webinar
END:VEVENT
BEGIN:VEVENT
DTSTART;TZID=America/Los_Angeles:20260213T100000
DTEND;TZID=America/Los_Angeles:20260213T120000
DTSTAMP:20260424T024037
CREATED:20251006T211319Z
LAST-MODIFIED:20251130T080102Z
UID:10000706-1770976800-1770984000@abdnha.org
SUMMARY:ABDNHA Friendly Friday Bike Ride
DESCRIPTION:Leader: Paul Petersen\, ABDNHA Volunteer. \nRelaxed social ride of 20-30 miles\, mostly flat\, at a 10-12 mph pace. Routes vary weekly\, and fun rides to highlight the roads less traveled. Return times vary depending on the chosen route. FREE\, every Friday. No registration required. Meet in the parking lot opposite the County Public Library.
URL:https://abdnha.org/activity/abdnha-friendly-friday-bike-ride/2026-02-13/
LOCATION:CA
CATEGORIES:Biking
END:VEVENT
BEGIN:VEVENT
DTSTART;TZID=America/Los_Angeles:20260213T183000
DTEND;TZID=America/Los_Angeles:20260213T193000
DTSTAMP:20260424T024037
CREATED:20260129T215706Z
LAST-MODIFIED:20260129T215706Z
UID:10000938-1771007400-1771011000@abdnha.org
SUMMARY:SPECIAL ROCK ART WEEKEND: Dr. Whitley's Lecture\, Part 1 - Understanding Native Californian Rock Art (FULL)
DESCRIPTION:Speaker: David Whitley\, Ph.D. \nThe meanings of pictographs and petroglyphs have long been a mystery to most people\, including archaeologists. The result has been a series of supposedly common-sense guesses\, like “hunting magic” or “maps to water\,” that were offered because people claimed Native Americans themselves did not know why these sites were made or how they were used. But the unpublished field notes of the state’s Native American tribes — the ethnographic record — some dating back to the 1870s\, together with extensive published research\, paint a different picture.  With substantial research to identify and compile this widely scattered information\, Dr. Whitley will explain how a clear understanding of the origins\, meanings\, and uses of the sites results\, providing a better understanding and appreciation of the remarkable artistic and intellectual record of California rock art. In the ABDNHA Library.  General Public: $12\, Members: $10\, ABDNHA Volunteers: $8. Register at abdnha.org or the Nature Center at 760-767-3098.
URL:https://abdnha.org/activity/special-rock-art-weekend-dr-whitleys-lecture-part-1-understanding-native-californian-rock-art-full/
LOCATION:ABDNHA Library\, 652 Palm Canyon Drive\, Borrego Springs\, CA\, 92004\, United States
CATEGORIES:In-Person Lecture
ATTACH;FMTTYPE=image/jpeg:https://abdnha.org/wp-content/uploads/2025/11/260213_David-Whitley.jpg
END:VEVENT
BEGIN:VEVENT
DTSTART;TZID=America/Los_Angeles:20260214T080000
DTEND;TZID=America/Los_Angeles:20260214T130000
DTSTAMP:20260424T024037
CREATED:20251226T204034Z
LAST-MODIFIED:20260102T013108Z
UID:10000902-1771056000-1771074000@abdnha.org
SUMMARY:Hike: Smugglers’ Canyon Overlook & Pictographs (Moderate) - FULL (waitlist)
DESCRIPTION:Leader: Bruce Kelley\, ABDNHA Volunteer \nThis hike is located in Blair Valley\, off S2\, and involves a 45-minute drive from the ABDNHA parking lot\, with the last five miles on a jeep road that is rough in places and requires 4WD/high clearance. This is a three-mile (round-trip) hike past pictographs and a native American village to a beautiful overlook. Bring water\, sunscreen\, good shoes\, and a 4WD vehicle. Carpooling is encouraged. Meet in the parking lot of ABDNHA no later than 7:50 am. No charge; call the Nature Center to reserve.
URL:https://abdnha.org/activity/hike-smugglers-canyon-overlook-and-pictographs-moderate-full-waitlist/
LOCATION:ABDNHA Parking Lot\, 652 Palm Canyon Drive\, Borrego Springs\, CA\, 92004\, United States
CATEGORIES:Hike
END:VEVENT
BEGIN:VEVENT
DTSTART;TZID=America/Los_Angeles:20260214T083000
DTEND;TZID=America/Los_Angeles:20260214T120000
DTSTAMP:20260424T024037
CREATED:20251206T213231Z
LAST-MODIFIED:20251206T213231Z
UID:10000768-1771057800-1771070400@abdnha.org
SUMMARY:Hike: Exploring Coyote Canyon
DESCRIPTION:Leader: Marlin Burke\, Naturalist Volunteer \nWe meet at ABDNHA and then carpool to Coyote Creek\, where we explore the history of Native Americans and early settlers\, geology\, paleontology\, Plant life\, Coyote Creek itself\, and whatever else catches our attention. Easy walking; driving on a dirt road. High clearance 2WD or SUV acceptable due to dirt road with possible rocks or potholes. No charge\, but registration is required.  Call or visit the ABDNHA Nature Center\, 760-767-3098.
URL:https://abdnha.org/activity/hike-exploring-coyote-canyon/
LOCATION:ABDNHA Parking Lot\, 652 Palm Canyon Drive\, Borrego Springs\, CA\, 92004\, United States
CATEGORIES:Hike
END:VEVENT
BEGIN:VEVENT
DTSTART;TZID=America/Los_Angeles:20260214T100000
DTEND;TZID=America/Los_Angeles:20260214T120000
DTSTAMP:20260424T024037
CREATED:20260131T190436Z
LAST-MODIFIED:20260131T190436Z
UID:10000950-1771063200-1771070400@abdnha.org
SUMMARY:Borrego Walkabout (Easy)
DESCRIPTION:Leaders: Selden McKee\, ABDNHA Volunteer \nGet a little exercise\, take some photos\, learn the history\, and hear the stories behind the buildings and places in this tiny desert town we all love so much – Borrego Springs. We will start at ABDNHA and cover approximately 1.5 miles\, all of which is flat. Wear comfortable walking shoes. No charge\, but pre-registration is required at ABDNHA’s Nature Center\, 760-767-3098.
URL:https://abdnha.org/activity/borrego-walkabout-easy-2/
LOCATION:ABDNHA Parking Lot\, 652 Palm Canyon Drive\, Borrego Springs\, CA\, 92004\, United States
CATEGORIES:Hike
END:VEVENT
BEGIN:VEVENT
DTSTART;TZID=America/Los_Angeles:20260214T183000
DTEND;TZID=America/Los_Angeles:20260214T193000
DTSTAMP:20260424T024037
CREATED:20251206T213230Z
LAST-MODIFIED:20260119T012836Z
UID:10000776-1771093800-1771097400@abdnha.org
SUMMARY:SPECIAL ROCK ART WEEKEND: Dr. Whitley's Lecture\, Part 2 - European Cave Paintings & the Origins of Art & Religion
DESCRIPTION:Speaker: David Whitley\, Ph.D. \nFew aspects of our archaeological past are more intriguing than the ancient cave paintings and engravings of France and Spain. These are exemplified by the remarkable murals in sites such as Lascaux\, Altamira\, and Chauvet caves\, which date from roughly 14\,000 to 35\,000 years ago. They\, and similar sites\, are widely regarded as signaling both the first “creative explosion” in human history\, as indicated by the earliest true masterpieces of art\, as well as the origins of religious beliefs and practices. \nIn tonight’s presentation\, Dr. Whitley will discuss his extensive research into cave art and how he has brought two distinct sciences together to find answers.  The first part begins with archaeological data that suggest when\, where\, and why this phenomenon may have first emerged in human history. The second part involves investigating the cognitive sciences to understand why religious beliefs are found in every culture\, at all time periods. This is not to determine the veracity of religious belief\, which is a matter of personal faith\, but to explain why religious and spiritual beliefs are universal to the human experience. Whether it is the result of biology or divine inspiration\, aspects of human cognition have caused us to believe in gods\, spirits\, and spirit worlds from the earliest days of humanity. In the ABDNHA Library. General Public: $12\, Members: $10\, ABDNHA Volunteers: $8. Register at abdnha.org or the Nature Center at 760-767-3098.\n\n\n  Get Tickets
URL:https://abdnha.org/activity/special-rock-art-weekend-dr-whitleys-lecture-part-2-european-cave-paintings-and-the-origins-of-art-and-religion/
LOCATION:ABDNHA Library\, 652 Palm Canyon Drive\, Borrego Springs\, CA\, 92004\, United States
CATEGORIES:In-Person Lecture
ATTACH;FMTTYPE=image/jpeg:https://abdnha.org/wp-content/uploads/2025/11/260214_David-Whitley.jpg
END:VEVENT
END:VCALENDAR