BEGIN:VCALENDAR
VERSION:2.0
PRODID:-//ABDNHA - ECPv6.15.20//NONSGML v1.0//EN
CALSCALE:GREGORIAN
METHOD:PUBLISH
X-WR-CALNAME:ABDNHA
X-ORIGINAL-URL:https://abdnha.org
X-WR-CALDESC:Events for ABDNHA
REFRESH-INTERVAL;VALUE=DURATION:PT1H
X-Robots-Tag:noindex
X-PUBLISHED-TTL:PT1H
BEGIN:VTIMEZONE
TZID:America/Los_Angeles
BEGIN:DAYLIGHT
TZOFFSETFROM:-0800
TZOFFSETTO:-0700
TZNAME:PDT
DTSTART:20240310T100000
END:DAYLIGHT
BEGIN:STANDARD
TZOFFSETFROM:-0700
TZOFFSETTO:-0800
TZNAME:PST
DTSTART:20241103T090000
END:STANDARD
BEGIN:DAYLIGHT
TZOFFSETFROM:-0800
TZOFFSETTO:-0700
TZNAME:PDT
DTSTART:20250309T100000
END:DAYLIGHT
BEGIN:STANDARD
TZOFFSETFROM:-0700
TZOFFSETTO:-0800
TZNAME:PST
DTSTART:20251102T090000
END:STANDARD
BEGIN:DAYLIGHT
TZOFFSETFROM:-0800
TZOFFSETTO:-0700
TZNAME:PDT
DTSTART:20260308T100000
END:DAYLIGHT
BEGIN:STANDARD
TZOFFSETFROM:-0700
TZOFFSETTO:-0800
TZNAME:PST
DTSTART:20261101T090000
END:STANDARD
BEGIN:DAYLIGHT
TZOFFSETFROM:-0800
TZOFFSETTO:-0700
TZNAME:PDT
DTSTART:20270314T100000
END:DAYLIGHT
BEGIN:STANDARD
TZOFFSETFROM:-0700
TZOFFSETTO:-0800
TZNAME:PST
DTSTART:20271107T090000
END:STANDARD
END:VTIMEZONE
BEGIN:VEVENT
DTSTART;TZID=America/Los_Angeles:20251228T080000
DTEND;TZID=America/Los_Angeles:20251228T130000
DTSTAMP:20260422T025751
CREATED:20251224T215641Z
LAST-MODIFIED:20251224T215812Z
UID:10000887-1766908800-1766926800@abdnha.org
SUMMARY:Hike: Little Grand Canyon (Moderate to Fairly Strenuous) - FULL (waitlist)
DESCRIPTION:Hike Leaders: Tom Keffer and Lee Christie\, ABDNHA Volunteers \nHIKE IS FULL – PLEASE CALL ABDNHA TO GET ON WAITLIST \n“Little Grand Canyon” is an impressive\, although small\, slot canyon in Coyote Canyon\, near Desert Gardens. This will be our second trip this season\, this time up the canyon itself. The trail meanders up a classic slot canyon\, getting continually rougher — stop when it’s too much for you. If you make it all the way\, you’ll be squeezing through a low-overhead tunnel. Five miles round-trip\, 600’ vertical\, mostly good tread\, with more rocks\, rubble\, and step-ups near the end. Access is via a sandy road that is usually no problem for most 2WD. Meet at ABDNHA by 7:50 am. Bring lunch/snacks\, water. Call 760-767-3098 to reserve. Limit: 10.
URL:https://abdnha.org/activity/hike-little-grand-canyon-moderate-to-fairly-strenuous-full-waitlist/
LOCATION:ABDNHA Parking Lot\, 652 Palm Canyon Drive\, Borrego Springs\, CA\, 92004\, United States
CATEGORIES:Hike
END:VEVENT
BEGIN:VEVENT
DTSTART;TZID=America/Los_Angeles:20251230T080000
DTEND;TZID=America/Los_Angeles:20251230T150000
DTSTAMP:20260422T025751
CREATED:20251206T220840Z
LAST-MODIFIED:20251206T220840Z
UID:10000849-1767081600-1767106800@abdnha.org
SUMMARY:Hike: Moonlight Canyon - Inner Pasture Loop Car Shuttle (Strenuous)
DESCRIPTION:Leaders: Carmelita Logerwell and Terri Straub \nHike 10 miles\, 1100’ gain. After leaving a few vehicles at the hike’s end\, we drive three miles back to Agua Caliente Park. After less than a mile on the Moonlight Canyon trail\, we deviate up to the Inner Pasture overlook. Lots of little dry falls to navigate! Then we descend into Inner Pasture\, walk a mile through it\, then back to the road via an easy\, very scenic unnamed canyon. Max. 15 people. Meet at ABDNHA by 7:50 am. Bring lunch\, snacks\, and water. Call 760-767-3098 to reserve.
URL:https://abdnha.org/activity/hike-moonlight-canyon-inner-pasture-loop-car-shuttle-strenuous/
LOCATION:ABDNHA Parking Lot\, 652 Palm Canyon Drive\, Borrego Springs\, CA\, 92004\, United States
CATEGORIES:Hike
END:VEVENT
BEGIN:VEVENT
DTSTART;TZID=America/Los_Angeles:20260102T100000
DTEND;TZID=America/Los_Angeles:20260102T120000
DTSTAMP:20260422T025751
CREATED:20251006T211319Z
LAST-MODIFIED:20251130T080102Z
UID:10000700-1767348000-1767355200@abdnha.org
SUMMARY:ABDNHA Friendly Friday Bike Ride
DESCRIPTION:Leader: Paul Petersen\, ABDNHA Volunteer. \nRelaxed social ride of 20-30 miles\, mostly flat\, at a 10-12 mph pace. Routes vary weekly\, and fun rides to highlight the roads less traveled. Return times vary depending on the chosen route. FREE\, every Friday. No registration required. Meet in the parking lot opposite the County Public Library.
URL:https://abdnha.org/activity/abdnha-friendly-friday-bike-ride/2026-01-02/
LOCATION:CA
CATEGORIES:Biking
END:VEVENT
BEGIN:VEVENT
DTSTART;TZID=America/Los_Angeles:20260102T183000
DTEND;TZID=America/Los_Angeles:20260102T193000
DTSTAMP:20260422T025751
CREATED:20260101T225141Z
LAST-MODIFIED:20260101T225141Z
UID:10000906-1767378600-1767382200@abdnha.org
SUMMARY:Lecture: Native Baskets - Function and Art - CANCELLED
DESCRIPTION:THIS PROGRAM IS CANCELLED. \nSpeaker: Robin TenEyck \nWoven baskets have served essential functions in societies worldwide for thousands of years. However\, there is also an artistry to creating beautiful baskets\, and Robin TenEyck has been weaving exquisite ones for many years. In tonight’s program\, Robin displays some of her baskets as well as Kumeyaay and Diegueno baskets from her collection. She also discusses the history of basket making among Southern California’s native people\, and how the arrival of the railroads in California led to a significant shift from utilitarian to decorative baskets\, prompting the establishment of trading posts and a growing interest in collecting baskets for display as artwork. At the ABDNHA Library. General Public: $12\, Members: $10\, Volunteers: $8. Register online or at the Nature Center\, 760-767-3098.
URL:https://abdnha.org/activity/lecture-native-baskets-function-and-art-cancelled/
LOCATION:ABDNHA Library\, 652 Palm Canyon Drive\, Borrego Springs\, CA\, 92004\, United States
CATEGORIES:In-Person Lecture
ATTACH;FMTTYPE=image/jpeg:https://abdnha.org/wp-content/uploads/2025/12/260102_baskets.jpg
END:VEVENT
BEGIN:VEVENT
DTSTART;TZID=America/Los_Angeles:20260103T100000
DTEND;TZID=America/Los_Angeles:20260103T113000
DTSTAMP:20260422T025751
CREATED:20251206T220717Z
LAST-MODIFIED:20251206T220717Z
UID:10000847-1767434400-1767439800@abdnha.org
SUMMARY:Auto Tour of Borrego’s Metal Sculptures
DESCRIPTION:Leader: ABDNHA Program Director Mike McElhatton \nJoin Mike on this auto tour of the outdoor sculptures in the Borrego Valley\, including the newest addition\, the Roadrunner and the Rattlesnake! See the sculptures\, hear the story they were created to tell\, and how and why they were made. No charge. Limit: 22\, registration required. Visit or call the Nature Center to register\, 760-767-3098.  We will carpool from the ABDNHA parking lot.
URL:https://abdnha.org/activity/auto-tour-of-borregos-metal-sculptures/
LOCATION:ABDNHA Parking Lot\, 652 Palm Canyon Drive\, Borrego Springs\, CA\, 92004\, United States
CATEGORIES:Auto Tour
END:VEVENT
BEGIN:VEVENT
DTSTART;TZID=America/Los_Angeles:20260103T130000
DTEND;TZID=America/Los_Angeles:20260103T143000
DTSTAMP:20260422T025751
CREATED:20251206T220717Z
LAST-MODIFIED:20251206T220717Z
UID:10000846-1767445200-1767450600@abdnha.org
SUMMARY:Public Presentation of the New Desert Botany Club
DESCRIPTION:Coordinator: Don Rideout \nIf you are interested in being part of this new ABDNHA club or would like to learn more\, there are two programs today you’ll want to attend. From 1:00 pm to 2:30 pm\, there will be an open meeting to discuss the club’s activities\, such as field trips\, hikes\, lectures\, gardening\, and more. From 6:30 pm to 7:30 pm is the first club presentation\, “The Plants of the Anza-Borrego Desert” in the ABDNHA Library. (See 6:30 below for more information.)  Note: This afternoon’s meeting requires no pre-registration. The lecture on Saturday night does require registration and a fee. 
URL:https://abdnha.org/activity/public-presentation-of-the-new-desert-botany-club/
LOCATION:ABDNHA Library\, 652 Palm Canyon Drive\, Borrego Springs\, CA\, 92004\, United States
CATEGORIES:Club
END:VEVENT
BEGIN:VEVENT
DTSTART;TZID=America/Los_Angeles:20260103T180000
DTEND;TZID=America/Los_Angeles:20260103T210000
DTSTAMP:20260422T025751
CREATED:20260103T172400Z
LAST-MODIFIED:20260103T172400Z
UID:10000914-1767463200-1767474000@abdnha.org
SUMMARY:Full Moon Walk: South Palm Wash (Easy) - CANCELLED DUE TO WEATHER
DESCRIPTION:Leader: Mike McElhatton\, ABDNHA Education Director \nJoin ABDNHA’s Program Director Mike McElhatton on this month’s Full Moon Walk in South Palm Wash. Experience the unique and serene beauty of moonlight on the canyon walls as we take a 1.5-mile walk through South Palm Wash. This is primarily a moderate walk\, with a few areas that require “big steps” and flexibility on inclines. We meet at the ABDNHA Library and carpool from there. A flashlight\, water\, and good hiking shoes are required. Space is limited to 22. Activity cancels whenever cloud cover limits the moonlight. No charge. Call the Nature Center at 760-767-3098 to make a reservation.
URL:https://abdnha.org/activity/full-moon-walk-south-palm-wash-easy-cancelled-due-to-weather/
LOCATION:ABDNHA Parking Lot\, 652 Palm Canyon Drive\, Borrego Springs\, CA\, 92004\, United States
CATEGORIES:Hike
END:VEVENT
BEGIN:VEVENT
DTSTART;TZID=America/Los_Angeles:20260103T183000
DTEND;TZID=America/Los_Angeles:20260103T193000
DTSTAMP:20260422T025751
CREATED:20251228T165628Z
LAST-MODIFIED:20251228T165628Z
UID:10000904-1767465000-1767468600@abdnha.org
SUMMARY:Lecture: Plants of Anza-Borrego Desert
DESCRIPTION:Desert Botany Series \nSpeaker: Don Rideout\, Desert Botany Club \nThis session will inaugurate ABDNHA’s Desert Botany Series with an overview of the plants of the Anza-Borrego Desert and adjacent areas. It is intended for beginners and those who want to refresh their botanical knowledge. The most commonly seen species will be highlighted. Subsequent sessions will focus on specific plant families\, locations\, and topics.  In the ABDNHA Library. Registration required. General Public: $12\, Members: $10\, Volunteers: $8. Register online at abdnha.org or at the Nature Center\, 760-767-3098.
URL:https://abdnha.org/activity/lecture-plants-of-anza-borrego-desert-2/
LOCATION:ABDNHA Library\, 652 Palm Canyon Drive\, Borrego Springs\, CA\, 92004\, United States
CATEGORIES:In-Person Lecture
ATTACH;FMTTYPE=image/jpeg:https://abdnha.org/wp-content/uploads/2025/12/260103_Plants.jpg
END:VEVENT
END:VCALENDAR