BEGIN:VCALENDAR
VERSION:2.0
PRODID:-//ABDNHA - ECPv6.15.20//NONSGML v1.0//EN
CALSCALE:GREGORIAN
METHOD:PUBLISH
X-WR-CALNAME:ABDNHA
X-ORIGINAL-URL:https://abdnha.org
X-WR-CALDESC:Events for ABDNHA
REFRESH-INTERVAL;VALUE=DURATION:PT1H
X-Robots-Tag:noindex
X-PUBLISHED-TTL:PT1H
BEGIN:VTIMEZONE
TZID:America/Los_Angeles
BEGIN:DAYLIGHT
TZOFFSETFROM:-0800
TZOFFSETTO:-0700
TZNAME:PDT
DTSTART:20240310T100000
END:DAYLIGHT
BEGIN:STANDARD
TZOFFSETFROM:-0700
TZOFFSETTO:-0800
TZNAME:PST
DTSTART:20241103T090000
END:STANDARD
BEGIN:DAYLIGHT
TZOFFSETFROM:-0800
TZOFFSETTO:-0700
TZNAME:PDT
DTSTART:20250309T100000
END:DAYLIGHT
BEGIN:STANDARD
TZOFFSETFROM:-0700
TZOFFSETTO:-0800
TZNAME:PST
DTSTART:20251102T090000
END:STANDARD
BEGIN:DAYLIGHT
TZOFFSETFROM:-0800
TZOFFSETTO:-0700
TZNAME:PDT
DTSTART:20260308T100000
END:DAYLIGHT
BEGIN:STANDARD
TZOFFSETFROM:-0700
TZOFFSETTO:-0800
TZNAME:PST
DTSTART:20261101T090000
END:STANDARD
END:VTIMEZONE
BEGIN:VEVENT
DTSTART;TZID=America/Los_Angeles:20251207T080000
DTEND;TZID=America/Los_Angeles:20251207T120000
DTSTAMP:20260424T015443
CREATED:20251205T220310Z
LAST-MODIFIED:20251205T220310Z
UID:10000868-1765094400-1765108800@abdnha.org
SUMMARY:Hike: West Butte\, Hawk Valley (Fairly Strenuous) - FULL (waitlist)
DESCRIPTION:HIKE IS FULL. Call 760-767-3098 to get on waitlist. \nTrip leader: Tom Keffer \nGorgeous sandstone cliffs\, killer views out the Borrego Valley\, all in a close-to-home package. We will be entering from Hawk Valley\, then climbing up a hidden slot to the ridge above\, then on to West Butte. 3.5 miles RT\, 500′ of climbing\, steep sections with scary drop offs\, some step-ups. Access road is suitable for most 2WD. Meet at ABDNHA by 7:50 a.m. Bring lunch/snacks\, water. Call 760-767-3098 to reserve. Limit: 10.
URL:https://abdnha.org/activity/hike-west-butte-hawk-valley-fairly-strenuous-full-waitlist/
LOCATION:ABDNHA Parking Lot\, 652 Palm Canyon Drive\, Borrego Springs\, CA\, 92004\, United States
CATEGORIES:Hike
END:VEVENT
BEGIN:VEVENT
DTSTART;TZID=America/Los_Angeles:20251207T130000
DTEND;TZID=America/Los_Angeles:20251207T133000
DTSTAMP:20260424T015443
CREATED:20251205T220039Z
LAST-MODIFIED:20251205T220039Z
UID:10000867-1765112400-1765114200@abdnha.org
SUMMARY:Short Walk in ABDNHA's Desert Garden
DESCRIPTION:Leader: Amateur Botanist Kathy Bussey \nJoin Kathy Bussey for a stroll around ABDNHA’s desert garden\, a peaceful and beautiful spot full of desert plants from throughout the southwest — trees\, cacti\, shrubs\, and annual flowers\, with many colorful signs\, artwork\, and informational panels. Look for birds and other wildlife activity. The garden always has something in bloom. A good place for photographs. The garden surface is flat for easy walking. Meet in ABDNHA’s parking lot. No charge. Register at the Nature Center or 760-767-3098. Walk repeats on Dec. 14\, Jan. 11\, 25.
URL:https://abdnha.org/activity/short-walk-in-abdnhas-desert-garden-4/
LOCATION:ABDNHA Parking Lot\, 652 Palm Canyon Drive\, Borrego Springs\, CA\, 92004\, United States
CATEGORIES:Hike
END:VEVENT
BEGIN:VEVENT
DTSTART;TZID=America/Los_Angeles:20251208T080000
DTEND;TZID=America/Los_Angeles:20251208T120000
DTSTAMP:20260424T015443
CREATED:20251205T214040Z
LAST-MODIFIED:20251205T214040Z
UID:10000862-1765180800-1765195200@abdnha.org
SUMMARY:Hike: Vista del Malpais (Moderate) - FULL (waitlist)
DESCRIPTION:HIKE IS FULL. Call 760-767-3098 to get on waitlist. \nLeader: Bruce Kelley\, ABDNHA Volunteer \nEast of Font’s Point several miles on the same escarpment\, closer to the Salton Sea with 360-degree views\, we’ll 4WD off S22 on Palo Verde Wash and Center Cut Wash about 3 miles. We will park on the side of the jeep road to the Vista and do a moderate hike 1.5 miles (each way)\, gradual gradient up washes to the Vista\, then walk along the rim for a few hundred yards\, before returning down the same washes. There will be a narrow trail along the rim with a steep drop off for one-quarter mile. If you do not like heights\, you may not want to do this one. Bring water\, sunscreen\, a windbreaker\, a hiking stick\, good hiking shoes\, and 4WD vehicle if you can. Meet in ABDNHA’s parking lot by 7:50 a.m.
URL:https://abdnha.org/activity/hike-vista-del-malpais-moderate-full-waitlist/
LOCATION:ABDNHA Parking Lot\, 652 Palm Canyon Drive\, Borrego Springs\, CA\, 92004\, United States
CATEGORIES:Hike
END:VEVENT
BEGIN:VEVENT
DTSTART;TZID=America/Los_Angeles:20251209T093000
DTEND;TZID=America/Los_Angeles:20251209T120000
DTSTAMP:20260424T015443
CREATED:20251205T215834Z
LAST-MODIFIED:20251205T215834Z
UID:10000866-1765272600-1765281600@abdnha.org
SUMMARY:Plant Amble (Easy)
DESCRIPTION:Leader: Pam Blake\, ABDNHA Volunteer \nThis is a variation on Pam’s ambles\, focused on plants.  We will enjoy a slow stroll through the desert discussing different plant adaptations to living in this challenging environment. Meet at ABDNHA parking lot at 9:30 a.m. and be back before noon after a relatively short and easy walk. Call the Nature Center to reserve\, 760-767-3098. Activity repeats 2nd Tuesday of the month.
URL:https://abdnha.org/activity/plant-amble-easy-2/
LOCATION:ABDNHA Parking Lot\, 652 Palm Canyon Drive\, Borrego Springs\, CA\, 92004\, United States
CATEGORIES:Hike
END:VEVENT
BEGIN:VEVENT
DTSTART;VALUE=DATE:20251210
DTEND;VALUE=DATE:20251211
DTSTAMP:20260424T015443
CREATED:20251003T175722Z
LAST-MODIFIED:20251006T205409Z
UID:10000686-1765324800-1765411199@abdnha.org
SUMMARY:Borrego Rock & Gem Club (BRAG) Field Trip
DESCRIPTION:Like rocks? Join BRAG and meet other rockhounds! \nThe BRAG club field trip is every 2nd Wed\, meeting in the ABDNHA parking lot. \nNote: Field trips may start at 8:00 am or 9:00 am\, depending on the destination. We usually try to get back to Borrego around 3:00 pm.
URL:https://abdnha.org/activity/borrego-rock-gem-club-brag-field-trip/2025-12-10/
LOCATION:CA
CATEGORIES:Club,Field Trip
END:VEVENT
BEGIN:VEVENT
DTSTART;TZID=America/Los_Angeles:20251210T100000
DTEND;TZID=America/Los_Angeles:20251210T120000
DTSTAMP:20260424T015443
CREATED:20251005T220120Z
LAST-MODIFIED:20251204T000316Z
UID:10000679-1765360800-1765368000@abdnha.org
SUMMARY:Borrego Desert Botany Club Formation Meeting
DESCRIPTION:Coordinator: Don Rideout\, ABDNHA Volunteer\nMeeting to be held in the ABDNHA Activity Room. This is the first meeting of ABDNHA’s new botany club. Everyone is welcome. The primary purpose of this meeting will be to discuss the club’s programming and activities\, outline the club’s operational structure\, and plan the club’s first public presentation\, scheduled for Saturday\, January 3. All interested are encouraged to attend.  No charge\, registration not required.
URL:https://abdnha.org/activity/borrego-desert-botany-club-formation-meeting-251210/
LOCATION:ABDNHA Activity Room\, 652 Palm Canyon Drive\, Borrego Springs\, CA\, 92004\, United States
CATEGORIES:Club
END:VEVENT
BEGIN:VEVENT
DTSTART;TZID=America/Los_Angeles:20251211T080000
DTEND;TZID=America/Los_Angeles:20251211T130000
DTSTAMP:20260424T015443
CREATED:20251205T215527Z
LAST-MODIFIED:20251205T215527Z
UID:10000865-1765440000-1765458000@abdnha.org
SUMMARY:Birding Hike: San Felipe Valley Wildlife Area (Easy) - FULL (waitlist)
DESCRIPTION:HIKE IS FULL. Call 760-767-3098 to get on waitlist. \nLeaders: Tom Keffer & Lee Christie\nHike with a focus on birding. A pleasant\, easy walk through a little-visited preserve. There are many migrants that frequent the preserve\, especially in the riparian woodlands along San Felipe Creek. We will look for Roadrunner\, Cooper’s Hawk\, Oak Titmouse\, Bluebirds\, and Acorn Woodpeckers. 4 miles RT\, 250′ vertical\, easy tread. You must buy a $5.66 personal pass for this walk! See https://tinyurl.com/hkrkshtu\, and select “Continue as Guest\,” then “Lands Pass.” Area of use is “San Felipe Valley Wildlife Area.” Meet at ABDNHA by 7:50 a.m. Bring lunch/snacks\, binoculars\, water. Call 760-767-3098 to reserve.
URL:https://abdnha.org/activity/birding-hike-san-felipe-valley-wildlife-area-easy-full-waitlist/
LOCATION:ABDNHA Parking Lot\, 652 Palm Canyon Drive\, Borrego Springs\, CA\, 92004\, United States
CATEGORIES:Birding,Hike
END:VEVENT
BEGIN:VEVENT
DTSTART;TZID=America/Los_Angeles:20251212T083000
DTEND;TZID=America/Los_Angeles:20251212T103000
DTSTAMP:20260424T015443
CREATED:20251205T215130Z
LAST-MODIFIED:20251205T215130Z
UID:10000864-1765528200-1765535400@abdnha.org
SUMMARY:Hike: Kiwanis Wash (Easy) - FULL (waitlist)
DESCRIPTION:HIKE IS FULL. Call 760-767-3098 to get on waitlist. \nLeader: Kathy Bussey\, ABDNHA Volunteer\nJust 5 minutes from ABDNHA is a little-visited wash that gives you that far-afield experience. Easy\, flat terrain. Convenient street-side parking. See the tallest of ocotillos\, mysterious holes drilled in sandstone walls\, and the mysterious Kiwanis item! Learn a bit of local history. Under 2 miles RT. Meet at ABDNHA parking lot. Wear hiking shoes\, hat\, bring water. Register at the ABDNHA Nature Center\, 760-767-3098.
URL:https://abdnha.org/activity/hike-kiwanis-wash-easy-full-waitlist/
LOCATION:ABDNHA Parking Lot\, 652 Palm Canyon Drive\, Borrego Springs\, CA\, 92004\, United States
CATEGORIES:Hike
END:VEVENT
BEGIN:VEVENT
DTSTART;TZID=America/Los_Angeles:20251212T100000
DTEND;TZID=America/Los_Angeles:20251212T120000
DTSTAMP:20260424T015443
CREATED:20251006T211319Z
LAST-MODIFIED:20251130T080102Z
UID:10000697-1765533600-1765540800@abdnha.org
SUMMARY:ABDNHA Friendly Friday Bike Ride
DESCRIPTION:Leader: Paul Petersen\, ABDNHA Volunteer. \nRelaxed social ride of 20-30 miles\, mostly flat\, at a 10-12 mph pace. Routes vary weekly\, and fun rides to highlight the roads less traveled. Return times vary depending on the chosen route. FREE\, every Friday. No registration required. Meet in the parking lot opposite the County Public Library.
URL:https://abdnha.org/activity/abdnha-friendly-friday-bike-ride/2025-12-12/
LOCATION:CA
CATEGORIES:Biking
END:VEVENT
BEGIN:VEVENT
DTSTART;TZID=America/Los_Angeles:20251213T090000
DTEND;TZID=America/Los_Angeles:20251213T140000
DTSTAMP:20260424T015443
CREATED:20251205T214741Z
LAST-MODIFIED:20251205T214741Z
UID:10000863-1765616400-1765634400@abdnha.org
SUMMARY:ABDNHA Members 4WD Tour: Cut Across Trail to Borrego Mountain - FULL (waitlist)
DESCRIPTION:4WD TOUR IS FULL. Call 760-767-3098 to get on waitlist. \nLeader: Jim Torian\, ABDNHA Volunteer \nThis off-road adventure will take us through the scenic\, soft sandy washes of Anza-Borrego’s northeast region. We’ll meet and brief at 9 a.m. in the ABDNHA parking lot\, then drive the S22 for 17 miles to the Arroyo Salado Campground turnoff. From there\, we’ll air down and head south to the serene 17 Palms Oasis\, stopping at the historic post office. Next\, we’ll tackle the Cut Across Trail to Borrego Mountain\, then wind our way up Buttes Canyon\, known for its stunning smoke trees. We’ll stop for lunch at Hawk Canyon before descending and continuing south on Buttes Pass Road to Highway 78\, where our adventure ends. This 18-mile\, 4-hour journey requires a 4WD vehicle with high clearance and a full tank of gas. A GMRS Ch. 15 radio is optional. Lunch is BYO. No charge. Limited space and vehicles. Register at the Nature Center or call 760-767-3098. ABDNHA members only. If you are not a member\, you may request being put on the waitlist.
URL:https://abdnha.org/activity/abdnha-members-4wd-tour-cut-across-trail-to-borrego-mountain-full-waitlist/
LOCATION:ABDNHA Parking Lot\, 652 Palm Canyon Drive\, Borrego Springs\, CA\, 92004\, United States
CATEGORIES:4WD
END:VEVENT
BEGIN:VEVENT
DTSTART;TZID=America/Los_Angeles:20251213T103000
DTEND;TZID=America/Los_Angeles:20251213T120000
DTSTAMP:20260424T015443
CREATED:20251007T012833Z
LAST-MODIFIED:20251205T005839Z
UID:10000717-1765621800-1765627200@abdnha.org
SUMMARY:Astronomy Club Meeting
DESCRIPTION:This is the first organizational meeting to form an astronomy club in Borrego Springs. If you are interested in astronomy or astrophotography and would like to learn from others or share what you know\, please plan to attend. In the ABDNHA Library.
URL:https://abdnha.org/activity/astronomy-club-meeting-251213/
LOCATION:ABDNHA Library\, 652 Palm Canyon Drive\, Borrego Springs\, CA\, 92004\, United States
CATEGORIES:Club,Stargazing
END:VEVENT
BEGIN:VEVENT
DTSTART;TZID=America/Los_Angeles:20251213T140000
DTEND;TZID=America/Los_Angeles:20251213T150000
DTSTAMP:20260424T015443
CREATED:20251007T013456Z
LAST-MODIFIED:20251205T005949Z
UID:10000718-1765634400-1765638000@abdnha.org
SUMMARY:Propagating Desert Plants
DESCRIPTION:Speaker: Jose Marfori\, Plant Propagation Specialist\, The Living Desert\nThis will be a great program for anyone interested in desert plants\, especially those who garden and are interested in growing native plants from seeds or cuttings. Jose Marfori is the plant propagation specialist for The Living Desert\, in Palm Desert\, a non-profit zoo and desert botanical garden showcasing flora and fauna from deserts around the world. Jose will explain what plant propagation is\, why it’s important to The Living Desert\, and how to get started. He will be using local desert plants as examples\, including the difficult to propagate desert smoke tree. In the ABDNHA Library. GP: $12\, M: $10\, V: $8. Register online or at the ABDNHA Nature Center\, 760-767-3098.
URL:https://abdnha.org/activity/propagating-desert-plants-251213/
LOCATION:ABDNHA Library\, 652 Palm Canyon Drive\, Borrego Springs\, CA\, 92004\, United States
CATEGORIES:In-Person Lecture
ATTACH;FMTTYPE=image/jpeg:https://abdnha.org/wp-content/uploads/2025/10/251213_Propagating-Plants.jpg
END:VEVENT
END:VCALENDAR