BEGIN:VCALENDAR
VERSION:2.0
PRODID:-//ABDNHA - ECPv6.15.20//NONSGML v1.0//EN
CALSCALE:GREGORIAN
METHOD:PUBLISH
X-ORIGINAL-URL:https://abdnha.org
X-WR-CALDESC:Events for ABDNHA
REFRESH-INTERVAL;VALUE=DURATION:PT1H
X-Robots-Tag:noindex
X-PUBLISHED-TTL:PT1H
BEGIN:VTIMEZONE
TZID:America/Los_Angeles
BEGIN:DAYLIGHT
TZOFFSETFROM:-0800
TZOFFSETTO:-0700
TZNAME:PDT
DTSTART:20250309T100000
END:DAYLIGHT
BEGIN:STANDARD
TZOFFSETFROM:-0700
TZOFFSETTO:-0800
TZNAME:PST
DTSTART:20251102T090000
END:STANDARD
BEGIN:DAYLIGHT
TZOFFSETFROM:-0800
TZOFFSETTO:-0700
TZNAME:PDT
DTSTART:20260308T100000
END:DAYLIGHT
BEGIN:STANDARD
TZOFFSETFROM:-0700
TZOFFSETTO:-0800
TZNAME:PST
DTSTART:20261101T090000
END:STANDARD
BEGIN:DAYLIGHT
TZOFFSETFROM:-0800
TZOFFSETTO:-0700
TZNAME:PDT
DTSTART:20270314T100000
END:DAYLIGHT
BEGIN:STANDARD
TZOFFSETFROM:-0700
TZOFFSETTO:-0800
TZNAME:PST
DTSTART:20271107T090000
END:STANDARD
END:VTIMEZONE
BEGIN:VEVENT
DTSTART;TZID=America/Los_Angeles:20260307T153000
DTEND;TZID=America/Los_Angeles:20260307T163000
DTSTAMP:20260423T055959
CREATED:20260220T232521Z
LAST-MODIFIED:20260220T232521Z
UID:10001060-1772897400-1772901000@abdnha.org
SUMMARY:Lecture: Swainson's Hawk Incredible Migration
DESCRIPTION:Speaker: Hal Cohen\, Hawkwatch founder\nLearn about the Swainson’s Hawk and its incredible 6\,000-mile migration from Argentina to the skies above Borrego Springs\, on its way to Alaska. Hal will share highlights of this migration\, hawk natural history\, hawkwatch history\, and invite your participation in the hawkwatch. Following the talk\, interested participants are invited to attend the evening watch (one hour before sunset to dark). ABDNHA Library. GP $12\, M $10\, V $8. Register at abdnha.org or call us at 760-767-3098. \nRegister here for the program.
URL:https://abdnha.org/activity/lecture-swainsons-hawk-incredible-migration/
LOCATION:ABDNHA Library\, 652 Palm Canyon Drive\, Borrego Springs\, CA\, 92004\, United States
CATEGORIES:In-Person Lecture
END:VEVENT
END:VCALENDAR