BEGIN:VCALENDAR
VERSION:2.0
PRODID:-//ABDNHA - ECPv6.15.20//NONSGML v1.0//EN
CALSCALE:GREGORIAN
METHOD:PUBLISH
X-WR-CALNAME:ABDNHA
X-ORIGINAL-URL:https://abdnha.org
X-WR-CALDESC:Events for ABDNHA
REFRESH-INTERVAL;VALUE=DURATION:PT1H
X-Robots-Tag:noindex
X-PUBLISHED-TTL:PT1H
BEGIN:VTIMEZONE
TZID:America/Los_Angeles
BEGIN:DAYLIGHT
TZOFFSETFROM:-0800
TZOFFSETTO:-0700
TZNAME:PDT
DTSTART:20250309T100000
END:DAYLIGHT
BEGIN:STANDARD
TZOFFSETFROM:-0700
TZOFFSETTO:-0800
TZNAME:PST
DTSTART:20251102T090000
END:STANDARD
BEGIN:DAYLIGHT
TZOFFSETFROM:-0800
TZOFFSETTO:-0700
TZNAME:PDT
DTSTART:20260308T100000
END:DAYLIGHT
BEGIN:STANDARD
TZOFFSETFROM:-0700
TZOFFSETTO:-0800
TZNAME:PST
DTSTART:20261101T090000
END:STANDARD
BEGIN:DAYLIGHT
TZOFFSETFROM:-0800
TZOFFSETTO:-0700
TZNAME:PDT
DTSTART:20270314T100000
END:DAYLIGHT
BEGIN:STANDARD
TZOFFSETFROM:-0700
TZOFFSETTO:-0800
TZNAME:PST
DTSTART:20271107T090000
END:STANDARD
END:VTIMEZONE
BEGIN:VEVENT
DTSTART;TZID=America/Los_Angeles:20260321T100000
DTEND;TZID=America/Los_Angeles:20260321T130000
DTSTAMP:20260422T053535
CREATED:20260317T213601Z
LAST-MODIFIED:20260317T213601Z
UID:10001090-1774087200-1774098000@abdnha.org
SUMMARY:BRAG: Borrego ROCKS! - CANCELLED
DESCRIPTION:*** THIS PROGRAM IS CANCELLED DUE TO EXTREME HEAT *** \nThe Borrego Rock and Gem (BRAG) Club will be hosting a demonstration event in the Visitor Plaza just outside of the Nature Center. Come see BRAG members cut geodes\, demonstrate lapidary work\, display rocks that are local to Southern California\, and answer questions about local rockhounding. Each visitor gets to select a free rock to take home! Geodes\, patches and stickers will be available for sale. Free; no registration required.
URL:https://abdnha.org/activity/brag-borrego-rocks-cancelled/
LOCATION:ABDNHA Parking Lot\, 652 Palm Canyon Drive\, Borrego Springs\, CA\, 92004\, United States
CATEGORIES:Club,Special Event
END:VEVENT
END:VCALENDAR