BEGIN:VCALENDAR
VERSION:2.0
PRODID:-//ABDNHA - ECPv6.15.20//NONSGML v1.0//EN
CALSCALE:GREGORIAN
METHOD:PUBLISH
X-WR-CALNAME:ABDNHA
X-ORIGINAL-URL:https://abdnha.org
X-WR-CALDESC:Events for ABDNHA
REFRESH-INTERVAL;VALUE=DURATION:PT1H
X-Robots-Tag:noindex
X-PUBLISHED-TTL:PT1H
BEGIN:VTIMEZONE
TZID:America/Los_Angeles
BEGIN:DAYLIGHT
TZOFFSETFROM:-0800
TZOFFSETTO:-0700
TZNAME:PDT
DTSTART:20250309T100000
END:DAYLIGHT
BEGIN:STANDARD
TZOFFSETFROM:-0700
TZOFFSETTO:-0800
TZNAME:PST
DTSTART:20251102T090000
END:STANDARD
BEGIN:DAYLIGHT
TZOFFSETFROM:-0800
TZOFFSETTO:-0700
TZNAME:PDT
DTSTART:20260308T100000
END:DAYLIGHT
BEGIN:STANDARD
TZOFFSETFROM:-0700
TZOFFSETTO:-0800
TZNAME:PST
DTSTART:20261101T090000
END:STANDARD
BEGIN:DAYLIGHT
TZOFFSETFROM:-0800
TZOFFSETTO:-0700
TZNAME:PDT
DTSTART:20270314T100000
END:DAYLIGHT
BEGIN:STANDARD
TZOFFSETFROM:-0700
TZOFFSETTO:-0800
TZNAME:PST
DTSTART:20271107T090000
END:STANDARD
END:VTIMEZONE
BEGIN:VEVENT
DTSTART;TZID=America/Los_Angeles:20260123T183000
DTEND;TZID=America/Los_Angeles:20260123T193000
DTSTAMP:20260422T112648
CREATED:20260113T000525Z
LAST-MODIFIED:20260119T014131Z
UID:10000933-1769193000-1769196600@abdnha.org
SUMMARY:Lecture: Flash Floods in Semi-Arid Landscapes - FULL (waitlist)
DESCRIPTION:Special Earth Sciences Weekend! \nSpeaker: Suzanne Walther\, Ph.D.\, University of San Diego \nPROGRAM IS FULL – PLEASE CALL ABDNHA at 760-767-3098 to get on waitlist. \nIt has been said that the two most common ways to die in the desert are from thirst and from drowning. Flash floods are the leading weather-related cause of death in the U.S. and many parts of the world\, and cause billions of dollars in damage. Dr. Suzanne Walther is a fluvial geomorphologist. She studies rivers\, streams\, floods\, sediment movement\, and how the natural flow of water shapes the landscape\, interacts with ecosystems\, and significantly impacts human development. The focus tonight is on flash floods in semi-arid areas\, such as Borrego Springs\, where they can occur\, the conditions that lead to their formation\, the powerful forces they unleash\, their effects on water supply and drought\, and what can be done to mitigate their destructive impact on human development. In the ABDNHA Library. General Public: $12\, Members: $10\, Volunteers: $8. You can register online at abdnha.org or at the Nature Center\, 760-767-3098. \n\n\n  Get Tickets
URL:https://abdnha.org/activity/lecture-flash-floods-in-semi-arid-landscapes-full-waitlist/
LOCATION:ABDNHA Library\, 652 Palm Canyon Drive\, Borrego Springs\, CA\, 92004\, United States
CATEGORIES:In-Person Lecture
ATTACH;FMTTYPE=image/jpeg:https://abdnha.org/wp-content/uploads/2025/12/260123_Flash-Floods.jpg
END:VEVENT
BEGIN:VEVENT
DTSTART;TZID=America/Los_Angeles:20260124T084500
DTEND;TZID=America/Los_Angeles:20260124T123000
DTSTAMP:20260422T112648
CREATED:20251206T215505Z
LAST-MODIFIED:20251226T232137Z
UID:10000822-1769244300-1769257800@abdnha.org
SUMMARY:Field Trip: Ancient Lake Cahuilla - FULL (waitlist)
DESCRIPTION:Special Earth Science Series! \nFIELD TRIP IS FULL – PLEASE CALL ABDNHA at 760-767-3098 to get on waitlist \nLeader: John Peterson\, Hydrologist and Geologist \nApproximately 12\,000 years ago\, the Colorado River altered its course\, forming a massive prehistoric lake known as Lake Cahuilla\, which is now the Salton Sea.   The lake served as a vital resource for the Cahuilla\, Kumeyaay\, and Cocopah peoples. Over the centuries\, the lake filled and dried up many times. It last filled between 1731 and 1733. Hydrologist John Peterson will lead a half-day field trip to the Salton Sea\, where participants can explore the ancient lake’s remnants\, including visible “bathtub rings” and fishing traps. Meet at ABDNHA. General Public: $18\, Members: $12\, Volunteers: $10. Register online or at the Nature Center\, 760-767-3098.
URL:https://abdnha.org/activity/field-trip-ancient-lake-cahuilla/
LOCATION:ABDNHA Parking Lot\, 652 Palm Canyon Drive\, Borrego Springs\, CA\, 92004\, United States
CATEGORIES:Field Trip
END:VEVENT
BEGIN:VEVENT
DTSTART;TZID=America/Los_Angeles:20260124T183000
DTEND;TZID=America/Los_Angeles:20260124T193000
DTSTAMP:20260422T112648
CREATED:20251206T215505Z
LAST-MODIFIED:20260120T182142Z
UID:10000821-1769279400-1769283000@abdnha.org
SUMMARY:Lecture: Geology of San Diego County’s Peninsular Ranges
DESCRIPTION:Special Earth Science Series! \nSpeaker: Geologist Don Barrie \nPlease join Mesa College geology professor and ABDNHA board member\, Don Barrie\, for this lecture on San Diego County’s Peninsular Ranges\, with emphasis on the Laguna Mountains west of Borrego Springs. Don’s lecture will focus on how plate tectonic processes have created the complex collage of igneous and metamorphic rocks exposed both regionally\, throughout southeastern California\, and locally\, in the Lagunas. In the ABDNHA Library. General Public: $12\, Members: $10\, Volunteers: $8. A related field trip is scheduled for Sun.\, Jan. 25. \n\nGet Tickets
URL:https://abdnha.org/activity/lecture-geology-of-san-diego-countys-peninsular-ranges/
LOCATION:ABDNHA Library\, 652 Palm Canyon Drive\, Borrego Springs\, CA\, 92004\, United States
CATEGORIES:In-Person Lecture
ATTACH;FMTTYPE=image/jpeg:https://abdnha.org/wp-content/uploads/2025/12/Peninsular-Ranges.jpg
END:VEVENT
END:VCALENDAR