BEGIN:VCALENDAR
VERSION:2.0
PRODID:-//ABDNHA - ECPv6.15.20//NONSGML v1.0//EN
CALSCALE:GREGORIAN
METHOD:PUBLISH
X-WR-CALNAME:ABDNHA
X-ORIGINAL-URL:https://abdnha.org
X-WR-CALDESC:Events for ABDNHA
REFRESH-INTERVAL;VALUE=DURATION:PT1H
X-Robots-Tag:noindex
X-PUBLISHED-TTL:PT1H
BEGIN:VTIMEZONE
TZID:America/Los_Angeles
BEGIN:DAYLIGHT
TZOFFSETFROM:-0800
TZOFFSETTO:-0700
TZNAME:PDT
DTSTART:20240310T100000
END:DAYLIGHT
BEGIN:STANDARD
TZOFFSETFROM:-0700
TZOFFSETTO:-0800
TZNAME:PST
DTSTART:20241103T090000
END:STANDARD
BEGIN:DAYLIGHT
TZOFFSETFROM:-0800
TZOFFSETTO:-0700
TZNAME:PDT
DTSTART:20250309T100000
END:DAYLIGHT
BEGIN:STANDARD
TZOFFSETFROM:-0700
TZOFFSETTO:-0800
TZNAME:PST
DTSTART:20251102T090000
END:STANDARD
BEGIN:DAYLIGHT
TZOFFSETFROM:-0800
TZOFFSETTO:-0700
TZNAME:PDT
DTSTART:20260308T100000
END:DAYLIGHT
BEGIN:STANDARD
TZOFFSETFROM:-0700
TZOFFSETTO:-0800
TZNAME:PST
DTSTART:20261101T090000
END:STANDARD
END:VTIMEZONE
BEGIN:VEVENT
DTSTART;TZID=America/Los_Angeles:20251217T140000
DTEND;TZID=America/Los_Angeles:20251217T150000
DTSTAMP:20260422T183648
CREATED:20251003T174626Z
LAST-MODIFIED:20251003T175848Z
UID:10000657-1765980000-1765983600@abdnha.org
SUMMARY:Borrego Rock & Gem Club (BRAG) Meeting
DESCRIPTION:Like rocks? Join BRAG and meet other rockhounds! \nThe BRAG club meets every 4th Wed of the month in the Activity Room. \nNote: In Nov & Dec\, the meeting is on the 3rd Wed due to holidays.
URL:https://abdnha.org/activity/borrego-rock-gem-club-brag-meeting/2025-12-17/
CATEGORIES:Club
END:VEVENT
END:VCALENDAR