BEGIN:VCALENDAR
VERSION:2.0
PRODID:-//ABDNHA - ECPv6.15.20//NONSGML v1.0//EN
CALSCALE:GREGORIAN
METHOD:PUBLISH
X-WR-CALNAME:ABDNHA
X-ORIGINAL-URL:https://abdnha.org
X-WR-CALDESC:Events for ABDNHA
REFRESH-INTERVAL;VALUE=DURATION:PT1H
X-Robots-Tag:noindex
X-PUBLISHED-TTL:PT1H
BEGIN:VTIMEZONE
TZID:America/Los_Angeles
BEGIN:DAYLIGHT
TZOFFSETFROM:-0800
TZOFFSETTO:-0700
TZNAME:PDT
DTSTART:20240310T100000
END:DAYLIGHT
BEGIN:STANDARD
TZOFFSETFROM:-0700
TZOFFSETTO:-0800
TZNAME:PST
DTSTART:20241103T090000
END:STANDARD
BEGIN:DAYLIGHT
TZOFFSETFROM:-0800
TZOFFSETTO:-0700
TZNAME:PDT
DTSTART:20250309T100000
END:DAYLIGHT
BEGIN:STANDARD
TZOFFSETFROM:-0700
TZOFFSETTO:-0800
TZNAME:PST
DTSTART:20251102T090000
END:STANDARD
BEGIN:DAYLIGHT
TZOFFSETFROM:-0800
TZOFFSETTO:-0700
TZNAME:PDT
DTSTART:20260308T100000
END:DAYLIGHT
BEGIN:STANDARD
TZOFFSETFROM:-0700
TZOFFSETTO:-0800
TZNAME:PST
DTSTART:20261101T090000
END:STANDARD
END:VTIMEZONE
BEGIN:VEVENT
DTSTART;TZID=America/Los_Angeles:20251206T090000
DTEND;TZID=America/Los_Angeles:20251206T150000
DTSTAMP:20260424T044352
CREATED:20251205T220650Z
LAST-MODIFIED:20251205T220650Z
UID:10000869-1765011600-1765033200@abdnha.org
SUMMARY:Hike: Geology Hike to Canyon Sin Nombre (Moderate) - FULL (waitlist)
DESCRIPTION:HIKE IS FULL. Call 760-767-3098 to get on waitlist. \nLeader: Geologist Don Barrie \nJoin Don on a hike to explore the geology of Canyon Sin Nombre\, located in a major fault zone\, and shaped by ancient faulting\, sedimentary rock\, and ongoing erosion. Meet along S2\, at the intersection of  S2 and Canyon Sin Nombre Road. Bring lunch and water. 4WD required. Register at the ABDNHA Nature Center or call 760-767-3098. \nNote: Meet at the intersection of S2 and Canyon Sin Nombre Road.
URL:https://abdnha.org/activity/hike-geology-hike-to-canyon-sin-nombre-moderate-full-waitlist/
CATEGORIES:Hike
END:VEVENT
END:VCALENDAR