BEGIN:VCALENDAR
VERSION:2.0
PRODID:-//ABDNHA - ECPv6.15.20//NONSGML v1.0//EN
CALSCALE:GREGORIAN
METHOD:PUBLISH
X-ORIGINAL-URL:https://abdnha.org
X-WR-CALDESC:Events for ABDNHA
REFRESH-INTERVAL;VALUE=DURATION:PT1H
X-Robots-Tag:noindex
X-PUBLISHED-TTL:PT1H
BEGIN:VTIMEZONE
TZID:America/Los_Angeles
BEGIN:DAYLIGHT
TZOFFSETFROM:-0800
TZOFFSETTO:-0700
TZNAME:PDT
DTSTART:20250309T100000
END:DAYLIGHT
BEGIN:STANDARD
TZOFFSETFROM:-0700
TZOFFSETTO:-0800
TZNAME:PST
DTSTART:20251102T090000
END:STANDARD
BEGIN:DAYLIGHT
TZOFFSETFROM:-0800
TZOFFSETTO:-0700
TZNAME:PDT
DTSTART:20260308T100000
END:DAYLIGHT
BEGIN:STANDARD
TZOFFSETFROM:-0700
TZOFFSETTO:-0800
TZNAME:PST
DTSTART:20261101T090000
END:STANDARD
BEGIN:DAYLIGHT
TZOFFSETFROM:-0800
TZOFFSETTO:-0700
TZNAME:PDT
DTSTART:20270314T100000
END:DAYLIGHT
BEGIN:STANDARD
TZOFFSETFROM:-0700
TZOFFSETTO:-0800
TZNAME:PST
DTSTART:20271107T090000
END:STANDARD
END:VTIMEZONE
BEGIN:VEVENT
DTSTART;TZID=America/Los_Angeles:20260426T090000
DTEND;TZID=America/Los_Angeles:20260426T140000
DTSTAMP:20260421T143433
CREATED:20260403T183937Z
LAST-MODIFIED:20260406T222055Z
UID:10001138-1777194000-1777212000@abdnha.org
SUMMARY:4WD Tour: Truckhaven Trail\, 17 Palms\, 5 Palms\, Pumpkin Patch - MEMBERS PRIORITY TRIP
DESCRIPTION:Leader: Todd Link\, ABDNHA Volunteer\n *** Level 4 Vehicle: 4WD (NO AWD) Higher Clearance REQUIRED due to deep sand\, medium rocks\, steep or uneven sections\, or rough terrain – Vehicle must be in good condition with a full tank of gas ***  \nJoin us for an off-road sightseeing adventure starting at ABDNHA. We’ll head East on S22\, air down our tires on Truckhaven trail\, and visit Anza-Borrego Desert State Park (ABDSP) and Ocotillo Wells State Vehicular Recreation Area (OWSVRA) attractions. We’ll follow Truchaven trail to Tule Wash\, stopping at 17 Palms and 5 Palms Oases. We’ll then break for lunch at Pumpkin Patch in OWSVRA\, also accessed via Tule Wash. Afterwards\, we’ll backtrack to ABDSP for a scenic drive to Vista Del Malpais via Basin Wash\, with short segments on Cut-Across Trail and Fault Wash\, then visit the vista point via Short Wash. At the vista\, enjoy beautiful views of the Borrego Badlands and surrounding mountains\, with time to explore the ridge trail. Finally\, we’ll return to S-22 via Thimble wash and head back to ABDNHA. \nDress for the weather\, bring a lot of water.\nTrip lasts about 4.5 hours\, depending on stops. \nNo charge\, but space is limited  (MEMBER PRIORITY TRIP)\nCall 760-767-3098 or visit ABDNHA Nature Center to reserve.
URL:https://abdnha.org/activity/4wd-tour-truckhaven-trail-17-palms-5-palms-pumpkin-patch/
LOCATION:ABDNHA Parking Lot\, 652 Palm Canyon Drive\, Borrego Springs\, CA\, 92004\, United States
CATEGORIES:4WD
END:VEVENT
BEGIN:VEVENT
DTSTART;TZID=America/Los_Angeles:20260427T080000
DTEND;TZID=America/Los_Angeles:20260427T100000
DTSTAMP:20260421T143433
CREATED:20260401T183329Z
LAST-MODIFIED:20260406T221242Z
UID:10001133-1777276800-1777284000@abdnha.org
SUMMARY:Borrego Birders Weekly Walk (Easy)
DESCRIPTION:Co-Leaders: Hal Cohen and Jonathan Berman \nGo birding around town with local birders. We’ll search for spring migrants\, such as Warblers. Orioles\, Grosbeaks\, and others we may find. Beginners and all levels welcome. No charge\, but please register at ABDNHA Nature Center\, 652 Palm Canyon Drive\, phone number: 760-767-3098. Meet at ABDNHA at 7:50 a.m. Bring snacks\, binoculars\, water. Limit: 10.
URL:https://abdnha.org/activity/borrego-birders-weekly-walk-3/
LOCATION:ABDNHA Parking Lot\, 652 Palm Canyon Drive\, Borrego Springs\, CA\, 92004\, United States
CATEGORIES:Birding,Hike
END:VEVENT
BEGIN:VEVENT
DTSTART;TZID=America/Los_Angeles:20260501T183000
DTEND;TZID=America/Los_Angeles:20260501T203000
DTSTAMP:20260421T143433
CREATED:20260420T175634Z
LAST-MODIFIED:20260420T175634Z
UID:10001142-1777660200-1777667400@abdnha.org
SUMMARY:Sunset and Moon Rise at Font's Point
DESCRIPTION:Leader: Mike McElhatton\, ABDNHA Education Director \nThis has become an annual ABDNHA end-of-season program. We leave Borrego in time to be at Font’s Point when the sun sets\, and we stay until the moon rises\, and a little longer if we like. The sun sets at 7:28 p.m.\, and the moon rises at 7:53 p.m. Meet at ABDNHA parking lot at 6:15 p.m.\nBring chairs\, snacks to share\, and a beverage of your choice.\n 4WD recommended. \nNo charge\, but space is limited and registration is required. Call the Nature Center at 760-767-3098 to reserve.
URL:https://abdnha.org/activity/sunset-and-moon-rise-at-fonts-point/
LOCATION:ABDNHA Parking Lot\, 652 Palm Canyon Drive\, Borrego Springs\, CA\, 92004\, United States
CATEGORIES:Hike
END:VEVENT
END:VCALENDAR