BEGIN:VCALENDAR
VERSION:2.0
PRODID:-//ABDNHA - ECPv6.15.20//NONSGML v1.0//EN
CALSCALE:GREGORIAN
METHOD:PUBLISH
X-WR-CALNAME:ABDNHA
X-ORIGINAL-URL:https://abdnha.org
X-WR-CALDESC:Events for ABDNHA
REFRESH-INTERVAL;VALUE=DURATION:PT1H
X-Robots-Tag:noindex
X-PUBLISHED-TTL:PT1H
BEGIN:VTIMEZONE
TZID:America/Los_Angeles
BEGIN:DAYLIGHT
TZOFFSETFROM:-0800
TZOFFSETTO:-0700
TZNAME:PDT
DTSTART:20250309T100000
END:DAYLIGHT
BEGIN:STANDARD
TZOFFSETFROM:-0700
TZOFFSETTO:-0800
TZNAME:PST
DTSTART:20251102T090000
END:STANDARD
BEGIN:DAYLIGHT
TZOFFSETFROM:-0800
TZOFFSETTO:-0700
TZNAME:PDT
DTSTART:20260308T100000
END:DAYLIGHT
BEGIN:STANDARD
TZOFFSETFROM:-0700
TZOFFSETTO:-0800
TZNAME:PST
DTSTART:20261101T090000
END:STANDARD
BEGIN:DAYLIGHT
TZOFFSETFROM:-0800
TZOFFSETTO:-0700
TZNAME:PDT
DTSTART:20270314T100000
END:DAYLIGHT
BEGIN:STANDARD
TZOFFSETFROM:-0700
TZOFFSETTO:-0800
TZNAME:PST
DTSTART:20271107T090000
END:STANDARD
END:VTIMEZONE
BEGIN:VEVENT
DTSTART;TZID=America/Los_Angeles:20260401T093000
DTEND;TZID=America/Los_Angeles:20260401T110000
DTSTAMP:20260421T162217
CREATED:20260326T175056Z
LAST-MODIFIED:20260326T175056Z
UID:10001123-1775035800-1775041200@abdnha.org
SUMMARY:Poetry in the ABDNHA Desert Garden
DESCRIPTION:Leader: Amy Brewster \nJoin writer/naturalist Amy Brewster in the lovely ABDNHA garden for 90 minutes of poetry or prose. Bring your own writing\, or a piece from an author you love. Nature poems are much appreciated. Bring a chair\, a hat\, and water. Limit: 10. No charge. Call the Nature Center or come in to reserve: 760-767-3098.
URL:https://abdnha.org/activity/poetry-in-the-abdnha-desert-garden-2/
LOCATION:ABDNHA Desert Garden\, 652 Palm Canyon Drive\, Borrego Springs\, 92004\, United States
CATEGORIES:Journaling
END:VEVENT
BEGIN:VEVENT
DTSTART;TZID=America/Los_Angeles:20260401T193000
DTEND;TZID=America/Los_Angeles:20260401T220000
DTSTAMP:20260421T162217
CREATED:20260301T003124Z
LAST-MODIFIED:20260301T003727Z
UID:10001080-1775071800-1775080800@abdnha.org
SUMMARY:Full Moon Walk: South Palm Wash (Easy)
DESCRIPTION:Leader: Mike McElhatton\, ABDNHA Education Director \nJoin ABDNHA’s Program Director Mike McElhatton on this month’s Full Moon Walk in South Palm Wash. Experience the unique and serene beauty of moonlight on the canyon walls as we take a 1.2-mile walk through South Palm Wash. Mostly a fairly easy to moderate walk\, with a few moderate areas that require “big steps” on inclines. We meet at the ABDNHA Library and carpool from there. A flashlight\, water\, and good hiking shoes are required. Limit 22. Activity cancels if cloud cover limits the moonlight. No charge. Call the Nature Center at 760-767-3098 to reserve.
URL:https://abdnha.org/activity/full-moon-walk-south-palm-wash-easy-4/
LOCATION:ABDNHA Library\, 652 Palm Canyon Drive\, Borrego Springs\, CA\, 92004\, United States
CATEGORIES:Hike
ATTACH;FMTTYPE=image/jpeg:https://abdnha.org/wp-content/uploads/2026/02/260401_Full-Moon-Walk.jpg
END:VEVENT
BEGIN:VEVENT
DTSTART;TZID=America/Los_Angeles:20260403T100000
DTEND;TZID=America/Los_Angeles:20260403T120000
DTSTAMP:20260421T162217
CREATED:20251006T211319Z
LAST-MODIFIED:20251130T080102Z
UID:10000713-1775210400-1775217600@abdnha.org
SUMMARY:ABDNHA Friendly Friday Bike Ride
DESCRIPTION:Leader: Paul Petersen\, ABDNHA Volunteer. \nRelaxed social ride of 20-30 miles\, mostly flat\, at a 10-12 mph pace. Routes vary weekly\, and fun rides to highlight the roads less traveled. Return times vary depending on the chosen route. FREE\, every Friday. No registration required. Meet in the parking lot opposite the County Public Library.
URL:https://abdnha.org/activity/abdnha-friendly-friday-bike-ride/2026-04-03/
LOCATION:CA
CATEGORIES:Biking
END:VEVENT
END:VCALENDAR