BEGIN:VCALENDAR
VERSION:2.0
PRODID:-//ABDNHA - ECPv6.15.20//NONSGML v1.0//EN
CALSCALE:GREGORIAN
METHOD:PUBLISH
X-ORIGINAL-URL:https://abdnha.org
X-WR-CALDESC:Events for ABDNHA
REFRESH-INTERVAL;VALUE=DURATION:PT1H
X-Robots-Tag:noindex
X-PUBLISHED-TTL:PT1H
BEGIN:VTIMEZONE
TZID:America/Los_Angeles
BEGIN:DAYLIGHT
TZOFFSETFROM:-0800
TZOFFSETTO:-0700
TZNAME:PDT
DTSTART:20250309T100000
END:DAYLIGHT
BEGIN:STANDARD
TZOFFSETFROM:-0700
TZOFFSETTO:-0800
TZNAME:PST
DTSTART:20251102T090000
END:STANDARD
BEGIN:DAYLIGHT
TZOFFSETFROM:-0800
TZOFFSETTO:-0700
TZNAME:PDT
DTSTART:20260308T100000
END:DAYLIGHT
BEGIN:STANDARD
TZOFFSETFROM:-0700
TZOFFSETTO:-0800
TZNAME:PST
DTSTART:20261101T090000
END:STANDARD
BEGIN:DAYLIGHT
TZOFFSETFROM:-0800
TZOFFSETTO:-0700
TZNAME:PDT
DTSTART:20270314T100000
END:DAYLIGHT
BEGIN:STANDARD
TZOFFSETFROM:-0700
TZOFFSETTO:-0800
TZNAME:PST
DTSTART:20271107T090000
END:STANDARD
END:VTIMEZONE
BEGIN:VEVENT
DTSTART;TZID=America/Los_Angeles:20260501T183000
DTEND;TZID=America/Los_Angeles:20260501T203000
DTSTAMP:20260422T025452
CREATED:20260420T175634Z
LAST-MODIFIED:20260420T175634Z
UID:10001142-1777660200-1777667400@abdnha.org
SUMMARY:Sunset and Moon Rise at Font's Point
DESCRIPTION:Leader: Mike McElhatton\, ABDNHA Education Director \nThis has become an annual ABDNHA end-of-season program. We leave Borrego in time to be at Font’s Point when the sun sets\, and we stay until the moon rises\, and a little longer if we like. The sun sets at 7:28 p.m.\, and the moon rises at 7:53 p.m. Meet at ABDNHA parking lot at 6:15 p.m.\nBring chairs\, snacks to share\, and a beverage of your choice.\n 4WD recommended. \nNo charge\, but space is limited and registration is required. Call the Nature Center at 760-767-3098 to reserve.
URL:https://abdnha.org/activity/sunset-and-moon-rise-at-fonts-point/
LOCATION:ABDNHA Parking Lot\, 652 Palm Canyon Drive\, Borrego Springs\, CA\, 92004\, United States
CATEGORIES:Hike
END:VEVENT
BEGIN:VEVENT
DTSTART;TZID=America/Los_Angeles:20260504T080000
DTEND;TZID=America/Los_Angeles:20260504T100000
DTSTAMP:20260422T025452
CREATED:20260401T183643Z
LAST-MODIFIED:20260406T221525Z
UID:10001134-1777881600-1777888800@abdnha.org
SUMMARY:Borrego Birders Weekly Walk (Easy)
DESCRIPTION:Co-Leaders: Hal Cohen and Jonathan Berman \nGo birding around town with local birders. We’ll search for spring migrants\, such as Warblers. Orioles\, Grosbeaks\, and others we may find. Beginners and all levels welcome. No charge\, but please register at ABDNHA Nature Center\, 652 Palm Canyon Drive\, phone number: 760-767-3098. Meet at ABDNHA at 7:50 a.m. Bring snacks\, binoculars\, water. Limit: 10.
URL:https://abdnha.org/activity/borrego-birders-weekly-walk-4/
LOCATION:ABDNHA Parking Lot\, 652 Palm Canyon Drive\, Borrego Springs\, CA\, 92004\, United States
CATEGORIES:Birding,Hike
END:VEVENT
BEGIN:VEVENT
DTSTART;TZID=America/Los_Angeles:20260511T080000
DTEND;TZID=America/Los_Angeles:20260511T100000
DTSTAMP:20260422T025452
CREATED:20260401T183914Z
LAST-MODIFIED:20260406T221650Z
UID:10001135-1778486400-1778493600@abdnha.org
SUMMARY:Borrego Birders Weekly Walk (Easy)
DESCRIPTION:Co-Leaders: Hal Cohen and Jonathan Berman \nGo birding around town with local birders. We’ll search for spring migrants\, such as Warblers. Orioles\, Grosbeaks\, and others we may find. Beginners and all levels welcome. No charge\, but please register at ABDNHA Nature Center\, 652 Palm Canyon Drive\, phone number: 760-767-3098. Meet at ABDNHA at 7:50 a.m. Bring snacks\, binoculars\, water. Limit: 10.
URL:https://abdnha.org/activity/borrego-birders-weekly-walk-5/
LOCATION:ABDNHA Parking Lot\, 652 Palm Canyon Drive\, Borrego Springs\, CA\, 92004\, United States
CATEGORIES:Birding,Hike
END:VEVENT
BEGIN:VEVENT
DTSTART;VALUE=DATE:20260513
DTEND;VALUE=DATE:20260514
DTSTAMP:20260422T025452
CREATED:20251003T175722Z
LAST-MODIFIED:20251006T205409Z
UID:10000691-1778630400-1778716799@abdnha.org
SUMMARY:Borrego Rock & Gem Club (BRAG) Field Trip
DESCRIPTION:Like rocks? Join BRAG and meet other rockhounds! \nThe BRAG club field trip is every 2nd Wed\, meeting in the ABDNHA parking lot. \nNote: Field trips may start at 8:00 am or 9:00 am\, depending on the destination. We usually try to get back to Borrego around 3:00 pm.
URL:https://abdnha.org/activity/borrego-rock-gem-club-brag-field-trip/2026-05-13/
LOCATION:CA
CATEGORIES:Club,Field Trip
END:VEVENT
BEGIN:VEVENT
DTSTART;TZID=America/Los_Angeles:20260516T080000
DTEND;TZID=America/Los_Angeles:20260516T120000
DTSTAMP:20260422T025452
CREATED:20260403T190544Z
LAST-MODIFIED:20260406T222605Z
UID:10001140-1778918400-1778932800@abdnha.org
SUMMARY:Hike: Santa Ysabel-Kanaka Loop (Moderate)
DESCRIPTION:Leader: Rachel Rench\, ABDNHA Volunteer \nThis hike covers 7 miles of the upper Santa Ysabel East Preserve from the trailhead on Farmer’s road to the Kanaka Loop and back. The hike is rated Moderate for hiking on old farm roads and some rolling hills with minimal elevation gain.\nBring 1 to 2 liters of water\, and wear comfortable hiking boots with good tread.\nMeet at 7:50 a.m. at the ABDNHA Parking lot\, or at 8:45 a.m. at the trailhead on Farmer’s road.\nAfter the hike\, we could stop for lunch in Julian or Wynola before returning to Borrego Springs. Call 760-767-3098 or come in to reserve. No charge.
URL:https://abdnha.org/activity/hike-santa-ysabel-kanaka-loop/
LOCATION:ABDNHA Parking Lot\, 652 Palm Canyon Drive\, Borrego Springs\, CA\, 92004\, United States
CATEGORIES:Hike
END:VEVENT
BEGIN:VEVENT
DTSTART;TZID=America/Los_Angeles:20260527T140000
DTEND;TZID=America/Los_Angeles:20260527T150000
DTSTAMP:20260422T025452
CREATED:20251210T220321Z
LAST-MODIFIED:20251210T220503Z
UID:10000881-1779890400-1779894000@abdnha.org
SUMMARY:Borrego Rock & Gem Club (BRAG) Meeting
DESCRIPTION:Like rocks? Join BRAG and meet other rockhounds! \nThe BRAG club meets every 4th Wed of the month in the Activity Room. \nNote: In Nov & Dec\, the meeting is on the 3rd Wed due to holidays.
URL:https://abdnha.org/activity/borrego-rock-gem-club-brag-meeting-2/2026-05-27/
LOCATION:CA
CATEGORIES:Club
END:VEVENT
BEGIN:VEVENT
DTSTART;VALUE=DATE:20261004
DTEND;VALUE=DATE:20261017
DTSTAMP:20260422T025452
CREATED:20251023T231848Z
LAST-MODIFIED:20260109T061213Z
UID:10000724-1791072000-1792195199@abdnha.org
SUMMARY:Romania Trip 2026
DESCRIPTION:Spots are still available!! \nJoin Anza-Borrego Desert Natural History Association on a grand tour of Romania\, one of Europe’s most underrated destinations. Romania has beautiful nature\, charming medieval towns\, stately castles\, colorful monasteries\, traditional rural areas\, interesting history\, and several UNESCO world heritage sites. The group will be led by geologist Don Barrie\, GeoTours tour director Matt Ebiner\, and an English-speaking Romanian guide. \nClick here to download a 5-page brochure about this trip. \nClick here for more information about this trip on the GeoTours website.
URL:https://abdnha.org/activity/romania-trip-261004/
LOCATION:CA
CATEGORIES:Special Event
ATTACH;FMTTYPE=image/jpeg:https://abdnha.org/wp-content/uploads/2025/10/Romania_261004_v2.jpg
END:VEVENT
END:VCALENDAR