BEGIN:VCALENDAR
VERSION:2.0
PRODID:-//ABDNHA - ECPv6.15.20//NONSGML v1.0//EN
CALSCALE:GREGORIAN
METHOD:PUBLISH
X-ORIGINAL-URL:https://abdnha.org
X-WR-CALDESC:Events for ABDNHA
REFRESH-INTERVAL;VALUE=DURATION:PT1H
X-Robots-Tag:noindex
X-PUBLISHED-TTL:PT1H
BEGIN:VTIMEZONE
TZID:America/Los_Angeles
BEGIN:DAYLIGHT
TZOFFSETFROM:-0800
TZOFFSETTO:-0700
TZNAME:PDT
DTSTART:20250309T100000
END:DAYLIGHT
BEGIN:STANDARD
TZOFFSETFROM:-0700
TZOFFSETTO:-0800
TZNAME:PST
DTSTART:20251102T090000
END:STANDARD
BEGIN:DAYLIGHT
TZOFFSETFROM:-0800
TZOFFSETTO:-0700
TZNAME:PDT
DTSTART:20260308T100000
END:DAYLIGHT
BEGIN:STANDARD
TZOFFSETFROM:-0700
TZOFFSETTO:-0800
TZNAME:PST
DTSTART:20261101T090000
END:STANDARD
BEGIN:DAYLIGHT
TZOFFSETFROM:-0800
TZOFFSETTO:-0700
TZNAME:PDT
DTSTART:20270314T100000
END:DAYLIGHT
BEGIN:STANDARD
TZOFFSETFROM:-0700
TZOFFSETTO:-0800
TZNAME:PST
DTSTART:20271107T090000
END:STANDARD
END:VTIMEZONE
BEGIN:VEVENT
DTSTART;TZID=America/Los_Angeles:20260416T183000
DTEND;TZID=America/Los_Angeles:20260416T193000
DTSTAMP:20260424T012823
CREATED:20260329T170943Z
LAST-MODIFIED:20260329T170943Z
UID:10001129-1776364200-1776367800@abdnha.org
SUMMARY:Webinar: Rattlesnakes of Anza-Borrego
DESCRIPTION:Eric Dugan\, Herpetologist\nIn this webinar\, Eric Dugan will describe the rattlesnakes found in Anza-Borrego Desert State Park\, with information about the habitats where each of them exists. He will also talk about a dietary study he has been working on for the past ten years. No charge\, but donations are welcome. \nRegister here for the webinar.
URL:https://abdnha.org/activity/webinar-rattlesnakes-of-anza-borrego/
LOCATION:Zoom
CATEGORIES:Webinar
ATTACH;FMTTYPE=image/jpeg:https://abdnha.org/wp-content/uploads/2026/03/260416_Rattlesnakes-of-Anza-Borrego.jpg
END:VEVENT
BEGIN:VEVENT
DTSTART;TZID=America/Los_Angeles:20260211T190000
DTEND;TZID=America/Los_Angeles:20260211T203000
DTSTAMP:20260424T012823
CREATED:20260208T202915Z
LAST-MODIFIED:20260209T003956Z
UID:10001010-1770836400-1770841800@abdnha.org
SUMMARY:Webinar: Geology of San Diego County’s Peninsular Ranges - POSTPONED
DESCRIPTION:This presentation is postponed to a later date.  The new date will be posted here as soon as possible \nSpeaker: Geologist Don Barrie\nPlease join Mesa College geology professor and ABDNHA board member\, Don Barrie\, for his repeat lecture on San Diego County’s Peninsular Ranges\, with emphasis on the Laguna Mountains west of Borrego Springs. Don’s lecture will focus on how plate tectonic processes have created the complex collage of igneous and metamorphic rocks exposed both regionally\, throughout southeastern California\, and locally\, in the Lagunas. GP $12\, M $10\, V $8 (per connection).
URL:https://abdnha.org/activity/webinar-geology-of-san-diego-countys-peninsular-ranges/
LOCATION:Zoom
CATEGORIES:Webinar
END:VEVENT
END:VCALENDAR