BEGIN:VCALENDAR
VERSION:2.0
PRODID:-//ABDNHA - ECPv6.15.20//NONSGML v1.0//EN
CALSCALE:GREGORIAN
METHOD:PUBLISH
X-WR-CALNAME:ABDNHA
X-ORIGINAL-URL:https://abdnha.org
X-WR-CALDESC:Events for ABDNHA
REFRESH-INTERVAL;VALUE=DURATION:PT1H
X-Robots-Tag:noindex
X-PUBLISHED-TTL:PT1H
BEGIN:VTIMEZONE
TZID:America/Los_Angeles
BEGIN:DAYLIGHT
TZOFFSETFROM:-0800
TZOFFSETTO:-0700
TZNAME:PDT
DTSTART:20250309T100000
END:DAYLIGHT
BEGIN:STANDARD
TZOFFSETFROM:-0700
TZOFFSETTO:-0800
TZNAME:PST
DTSTART:20251102T090000
END:STANDARD
BEGIN:DAYLIGHT
TZOFFSETFROM:-0800
TZOFFSETTO:-0700
TZNAME:PDT
DTSTART:20260308T100000
END:DAYLIGHT
BEGIN:STANDARD
TZOFFSETFROM:-0700
TZOFFSETTO:-0800
TZNAME:PST
DTSTART:20261101T090000
END:STANDARD
BEGIN:DAYLIGHT
TZOFFSETFROM:-0800
TZOFFSETTO:-0700
TZNAME:PDT
DTSTART:20270314T100000
END:DAYLIGHT
BEGIN:STANDARD
TZOFFSETFROM:-0700
TZOFFSETTO:-0800
TZNAME:PST
DTSTART:20271107T090000
END:STANDARD
END:VTIMEZONE
BEGIN:VEVENT
DTSTART;TZID=America/Los_Angeles:20260208T080000
DTEND;TZID=America/Los_Angeles:20260208T140000
DTSTAMP:20260424T025129
CREATED:20260207T172136Z
LAST-MODIFIED:20260207T172136Z
UID:10001008-1770537600-1770559200@abdnha.org
SUMMARY:Hike: Borrego Badlands\, The Trifecta (Moderate to Strenuous)
DESCRIPTION:Leaders: Sanjiv Nanda and Alan Parks \nJoin us on this moderate seven-mile loop hike as we experience badlands vistas from three iconic Borrego Badlands viewpoints: The Bench\, Font’s Point\, and Inspiration Point. As a bonus\, we will examine a prominence that Bill Sullivan dubbed Pointed Hill and contemplate routes to the top. The hike route is cross-country and through lightly trodden washes around Font’s Wash and Inspiration Wash. There are a couple of short scrambles. Bring water\, snacks\, and lunch. Meet at 8:00 am at the entrance to Inspiration Wash (S22 mile 28.4\, 9.2 miles east of Christmas Circle) from where we will carpool in 4WD/AWD vehicles a short distance to the start of the hike. Max: 22. No charge; call or stop by the Nature Center to reserve\, 760-767-3098.
URL:https://abdnha.org/activity/hike-borrego-badlands-the-trifecta-moderate-to-strenuous/
LOCATION:CA
CATEGORIES:Hike
END:VEVENT
BEGIN:VEVENT
DTSTART;TZID=America/Los_Angeles:20260208T083000
DTEND;TZID=America/Los_Angeles:20260208T113000
DTSTAMP:20260424T025129
CREATED:20260130T195324Z
LAST-MODIFIED:20260130T195324Z
UID:10000941-1770539400-1770550200@abdnha.org
SUMMARY:Hike: The Bench (Moderate) - FULL (waitlist)
DESCRIPTION:Leader: Kathy Bussey\, ABDNHA Volunteer \nSurround yourself with the natural beauty of the Santa Rosa Mountains\, Clark Dry Lake\, and the Borrego Badlands on this easy 2.5-mile round-trip hike. We will drive up Inspiration Wash\, then hike up an unnamed wash to the man-made memorial bench for a 360-degree view. It is an easy hike\, except for the final short ascent up a sandy wash to the bench. AWD or 4WD OK. Meet at ABDNHA to carpool. No charge; call or stop by the Nature Center to reserve.
URL:https://abdnha.org/activity/hike-the-bench-moderate-full-waitlist/
LOCATION:ABDNHA Parking Lot\, 652 Palm Canyon Drive\, Borrego Springs\, CA\, 92004\, United States
CATEGORIES:Hike
END:VEVENT
END:VCALENDAR