BEGIN:VCALENDAR
VERSION:2.0
PRODID:-//ABDNHA - ECPv6.15.20//NONSGML v1.0//EN
CALSCALE:GREGORIAN
METHOD:PUBLISH
X-WR-CALNAME:ABDNHA
X-ORIGINAL-URL:https://abdnha.org
X-WR-CALDESC:Events for ABDNHA
REFRESH-INTERVAL;VALUE=DURATION:PT1H
X-Robots-Tag:noindex
X-PUBLISHED-TTL:PT1H
BEGIN:VTIMEZONE
TZID:America/Los_Angeles
BEGIN:DAYLIGHT
TZOFFSETFROM:-0800
TZOFFSETTO:-0700
TZNAME:PDT
DTSTART:20250309T100000
END:DAYLIGHT
BEGIN:STANDARD
TZOFFSETFROM:-0700
TZOFFSETTO:-0800
TZNAME:PST
DTSTART:20251102T090000
END:STANDARD
BEGIN:DAYLIGHT
TZOFFSETFROM:-0800
TZOFFSETTO:-0700
TZNAME:PDT
DTSTART:20260308T100000
END:DAYLIGHT
BEGIN:STANDARD
TZOFFSETFROM:-0700
TZOFFSETTO:-0800
TZNAME:PST
DTSTART:20261101T090000
END:STANDARD
BEGIN:DAYLIGHT
TZOFFSETFROM:-0800
TZOFFSETTO:-0700
TZNAME:PDT
DTSTART:20270314T100000
END:DAYLIGHT
BEGIN:STANDARD
TZOFFSETFROM:-0700
TZOFFSETTO:-0800
TZNAME:PST
DTSTART:20271107T090000
END:STANDARD
END:VTIMEZONE
BEGIN:VEVENT
DTSTART;TZID=America/Los_Angeles:20260104T090000
DTEND;TZID=America/Los_Angeles:20260104T120000
DTSTAMP:20260422T023849
CREATED:20251224T223837Z
LAST-MODIFIED:20251227T175234Z
UID:10000888-1767517200-1767528000@abdnha.org
SUMMARY:Beginning Birding: Borrego Springs Resort (Easy) - FULL (waitlist)
DESCRIPTION:Leaders: Tom Keffer and Lee Christie\, ABDNHA Volunteers \nIf you can’t tell a sparrow from a flycatcher from a wren\, this trip is for you! Instead of racking up species\, we will slow down and take more time with each individual bird\, learning how to identify them. We will be carrying a scope\, so you’ll get a good look at what distinguishes a bird. 1.5 miles\, no elevation gain\, easy trail. Meet in the ABDNHA parking lot by 8:50 am.  Bring snacks\, binoculars\, and water. Call 760-767-3098 to reserve. Limit: 10.
URL:https://abdnha.org/activity/beginning-birding-borrego-springs-resort-easy-full-waitlist/
LOCATION:ABDNHA Parking Lot\, 652 Palm Canyon Drive\, Borrego Springs\, CA\, 92004\, United States
CATEGORIES:Hike
END:VEVENT
END:VCALENDAR